BEGIN:VCALENDAR
VERSION:2.0
PRODID:-//Plone.org//NONSGML plone.app.event//EN
X-WR-TIMEZONE:US/Eastern
BEGIN:VEVENT
SUMMARY:Friends of the Library Book Sale
DTSTART;TZID=US/Eastern:20230902T090000
DTEND;TZID=US/Eastern:20230902T160000
DTSTAMP:20260419T154639Z
UID:cf417280c81c44d2910adca67dd1e461@saas_stack_varnish:6080
CREATED:20230822T163857Z
DESCRIPTION:Come and browse through a large selection of gently used hardc
 over and paperback books\, DVDs and audiobooks.\n\nCanadian Lakes Castle\n
 9400 Pere Marquette Drive
LAST-MODIFIED:20230822T163906Z
LOCATION:Canadian Lakes Castle
URL:https://www.morton.michlibrary.org/news-events/lib-cal/friends-of-the-
 library-book-sale-5
END:VEVENT
BEGIN:VTIMEZONE
TZID:US/Eastern
X-LIC-LOCATION:US/Eastern
BEGIN:DAYLIGHT
DTSTART:20230312T030000
TZNAME:EDT
TZOFFSETFROM:-0500
TZOFFSETTO:-0400
END:DAYLIGHT
END:VTIMEZONE
END:VCALENDAR
