BEGIN:VCALENDAR
VERSION:2.0
PRODID:-//Plone.org//NONSGML plone.app.event//EN
X-WR-TIMEZONE:US/Eastern
BEGIN:VEVENT
SUMMARY:Friends of the Library Book Sale
DTSTART;TZID=US/Eastern:20210904T090000
DTEND;TZID=US/Eastern:20210904T160000
DTSTAMP:20260420T001746Z
UID:f70ab14308474993957a7adb21a018d7@saas_stack_varnish:6080
CREATED:20210818T184120Z
DESCRIPTION:Join us for a 2-day sale of gently used fiction and nonfiction
  books\, audiobooks\, DVDs and CDs.
LAST-MODIFIED:20210818T184126Z
LOCATION:Canadian Lakes Castle
URL:https://www.morton.michlibrary.org/news-events/lib-cal/friends-of-the-
 library-book-sale-2
END:VEVENT
BEGIN:VTIMEZONE
TZID:US/Eastern
X-LIC-LOCATION:US/Eastern
BEGIN:DAYLIGHT
DTSTART:20210314T030000
TZNAME:EDT
TZOFFSETFROM:-0500
TZOFFSETTO:-0400
END:DAYLIGHT
END:VTIMEZONE
END:VCALENDAR
