BEGIN:VCALENDAR
VERSION:2.0
PRODID:-//Plone.org//NONSGML plone.app.event//EN
X-WR-TIMEZONE:US/Eastern
BEGIN:VEVENT
SUMMARY:Free Mental Health Screenings
DTSTART;TZID=US/Eastern:20220525T130000
DTEND;TZID=US/Eastern:20220525T150000
DTSTAMP:20260419T225231Z
UID:11931bd911b84439acf465dee264673b@saas_stack_varnish:6080
CREATED:20220516T133657Z
DESCRIPTION:Jody from the Community Mental Health for Central Michigan Off
 ice will be at the library if you wish to have a free mental health screen
 ing.  Stop in any time between 1:00 and 3:00.
LAST-MODIFIED:20220516T133702Z
LOCATION:Library Community Room
URL:https://www.morton.michlibrary.org/news-events/lib-cal/free-mental-hea
 lth-screenings
END:VEVENT
BEGIN:VTIMEZONE
TZID:US/Eastern
X-LIC-LOCATION:US/Eastern
BEGIN:DAYLIGHT
DTSTART:20220313T030000
TZNAME:EDT
TZOFFSETFROM:-0500
TZOFFSETTO:-0400
END:DAYLIGHT
END:VTIMEZONE
END:VCALENDAR
