BEGIN:VCALENDAR
VERSION:2.0
PRODID:-//Plone.org//NONSGML plone.app.event//EN
X-WR-TIMEZONE:US/Eastern
BEGIN:VEVENT
SUMMARY:Family Feud - Tween/Teen Summer Reading Program
DTSTART;TZID=US/Eastern:20220721T133000
DTEND;TZID=US/Eastern:20220721T143000
DTSTAMP:20260419T212657Z
UID:88ae554f1e6b43b0825939384d7f066d@saas_stack_varnish:6080
CREATED:20220516T141540Z
DESCRIPTION:Join Michelle Howarth for an exciting teen edition of the hit 
 game show "Family Feud!" Compete against other tweens/teens to see if you 
 can guess the most popular answers to survey questions. This program is fo
 r tweens/teens entering 5th - 12th grades.
LAST-MODIFIED:20220516T141547Z
LOCATION:Library Community Room
URL:https://www.morton.michlibrary.org/news-events/lib-cal/family-feud-twe
 en-teen-summer-reading-program
END:VEVENT
BEGIN:VTIMEZONE
TZID:US/Eastern
X-LIC-LOCATION:US/Eastern
BEGIN:DAYLIGHT
DTSTART:20220313T030000
TZNAME:EDT
TZOFFSETFROM:-0500
TZOFFSETTO:-0400
END:DAYLIGHT
END:VTIMEZONE
END:VCALENDAR
