BEGIN:VCALENDAR
VERSION:2.0
PRODID:-//Plone.org//NONSGML plone.app.event//EN
X-WR-TIMEZONE:US/Eastern
BEGIN:VEVENT
SUMMARY:Edmund Fitzgerald: The Stories\, the Song with Mike Fornes
DTSTART;TZID=US/Eastern:20190911T190000
DTEND;TZID=US/Eastern:20190911T200000
DTSTAMP:20260420T065917Z
UID:1b87151ecf9645cb80c4b1d844184800@saas_stack_varnish:6080
CREATED:20190514T201110Z
DESCRIPTION:Mike Fornes\, who presented "101 things that happened on the M
 ackinaw Bridge" returns to us this fall. Hear the stories of the Edmund Fi
 tzgerald's crew members\, their families\, and the ironies of a doomed shi
 p.  Learn how the hit song was written\, recorded\, and performed by Gordo
 n Lightfoot.
LAST-MODIFIED:20190515T145030Z
LOCATION:Library Community Room
URL:https://www.morton.michlibrary.org/news-events/lib-cal/edmund-fitzgera
 ld-the-stories-the-song-with-mike-fornes
END:VEVENT
BEGIN:VTIMEZONE
TZID:US/Eastern
X-LIC-LOCATION:US/Eastern
BEGIN:DAYLIGHT
DTSTART:20190310T030000
TZNAME:EDT
TZOFFSETFROM:-0500
TZOFFSETTO:-0400
END:DAYLIGHT
END:VTIMEZONE
END:VCALENDAR
