BEGIN:VCALENDAR
VERSION:2.0
PRODID:-//Plone.org//NONSGML plone.app.event//EN
X-WR-TIMEZONE:US/Eastern
BEGIN:VEVENT
SUMMARY:Dumpster Doug - A Magical Ecology Show (Online)
DTSTART;TZID=US/Eastern:20200617T133000
DTEND;TZID=US/Eastern:20200617T141500
DTSTAMP:20260420T014550Z
UID:69871ceaa680463c88ac180b0aaeb3eb@saas_stack_varnish:6080
CONTACT:231-972-8315\, info@mtplibrary.org\, https://youtu.be/R-LXedHJMEE
CREATED:20200531T023930Z
DESCRIPTION:Join Dumpster Doug for a live broadcast program of interactive
  magic and fun with a message about protecting the Earth.  The show will b
 egin promptly at 1:30 so "arrive" early.
LAST-MODIFIED:20200601T021332Z
LOCATION:Online
URL:https://www.morton.michlibrary.org/news-events/lib-cal/dumpster-doug-a
 -magical-ecology-show-online
END:VEVENT
BEGIN:VTIMEZONE
TZID:US/Eastern
X-LIC-LOCATION:US/Eastern
BEGIN:DAYLIGHT
DTSTART:20200308T030000
TZNAME:EDT
TZOFFSETFROM:-0500
TZOFFSETTO:-0400
END:DAYLIGHT
END:VTIMEZONE
END:VCALENDAR
