BEGIN:VCALENDAR
VERSION:2.0
PRODID:-//Plone.org//NONSGML plone.app.event//EN
X-WR-TIMEZONE:US/Eastern
BEGIN:VEVENT
SUMMARY:Drummunity! Drum Circle (Children's Summer Reading Program)
DTSTART;TZID=US/Eastern:20230705T133000
DTEND;TZID=US/Eastern:20230705T143000
DTSTAMP:20260419T170238Z
UID:1fa6694791b44ff184fee8ddb12912c4@saas_stack_varnish:6080
CREATED:20230517T185809Z
DESCRIPTION:You won't believe your ears when you hear your group playing t
 ogether - on everything from hand drums\, pickle buckets\, and salad bowls
  to muffin tins!
LAST-MODIFIED:20230517T190331Z
LOCATION:Morton Township Library Community Room
URL:https://www.morton.michlibrary.org/news-events/lib-cal/drummunity-drum
 -circle
END:VEVENT
BEGIN:VTIMEZONE
TZID:US/Eastern
X-LIC-LOCATION:US/Eastern
BEGIN:DAYLIGHT
DTSTART:20230312T030000
TZNAME:EDT
TZOFFSETFROM:-0500
TZOFFSETTO:-0400
END:DAYLIGHT
END:VTIMEZONE
END:VCALENDAR
