BEGIN:VCALENDAR
VERSION:2.0
PRODID:-//Plone.org//NONSGML plone.app.event//EN
X-WR-TIMEZONE:US/Eastern
BEGIN:VEVENT
SUMMARY:Discovery Club / Healthy Kids Club
DTSTART;TZID=US/Eastern:20190417T153000
DTEND;TZID=US/Eastern:20190417T164500
DTSTAMP:20260420T085435Z
UID:38177c9c248e41f58e42106d49197494@saas_stack_varnish:6080
CREATED:20181008T133223Z
DESCRIPTION:Club members will discover amazing things through games\, art 
 projects\, science experiments\, special visitors\, scavenger hunts and mu
 ch more!  They will also discover the importance of living a healthy lifes
 tyle by  actively engaging in fun physical and team-building activities an
 d by recording the distance they walk from the school to the library.  Thi
 s is a free program\, and healthy snacks will be provided.  Come join the 
 FUN!
LAST-MODIFIED:20181008T133232Z
LOCATION:Library Community Room
URL:https://www.morton.michlibrary.org/news-events/lib-cal/discovery-club-
 healthy-kids-club/2019-04-17
END:VEVENT
BEGIN:VTIMEZONE
TZID:US/Eastern
X-LIC-LOCATION:US/Eastern
BEGIN:DAYLIGHT
DTSTART:20190310T030000
TZNAME:EDT
TZOFFSETFROM:-0500
TZOFFSETTO:-0400
END:DAYLIGHT
END:VTIMEZONE
END:VCALENDAR
