BEGIN:VCALENDAR
VERSION:2.0
PRODID:-//Plone.org//NONSGML plone.app.event//EN
X-WR-TIMEZONE:US/Eastern
BEGIN:VEVENT
SUMMARY:Discovery Club for 3rd and 4th graders
DTSTART;TZID=US/Eastern:20180418T153000
DTEND;TZID=US/Eastern:20180418T164500
DTSTAMP:20260422T151648Z
UID:1960e885f48a4c3e95913d0542c604e8@saas_stack_varnish:6080
CREATED:20171110T183738Z
DESCRIPTION:Discover amazing things through games\, art projects\, science
  experiments\, problem-solving activities\, scavenger hunts and much more!
LAST-MODIFIED:20171110T183746Z
URL:https://www.morton.michlibrary.org/news-events/lib-cal/discovery-club-
 for-3rd-and-4th-graders-1/2018-04-18
END:VEVENT
BEGIN:VTIMEZONE
TZID:US/Eastern
X-LIC-LOCATION:US/Eastern
BEGIN:DAYLIGHT
DTSTART:20180311T030000
TZNAME:EDT
TZOFFSETFROM:-0500
TZOFFSETTO:-0400
END:DAYLIGHT
END:VTIMEZONE
END:VCALENDAR
