BEGIN:VCALENDAR
VERSION:2.0
PRODID:-//Plone.org//NONSGML plone.app.event//EN
X-WR-TIMEZONE:US/Eastern
BEGIN:VEVENT
SUMMARY:Conduct of the Civil War
DTSTART;TZID=US/Eastern:20221005T100000
DTEND;TZID=US/Eastern:20221005T110000
DTSTAMP:20260419T195521Z
UID:86b26b32eefc49df90fa0cb1d253ef18@saas_stack_varnish:6080
CREATED:20220511T201952Z
DESCRIPTION:Join local author and historian for this "Coffee with Dr. Deeb
 " Civil War Presentation.
LAST-MODIFIED:20220804T142701Z
LOCATION:Library Community Room
URL:https://www.morton.michlibrary.org/news-events/lib-cal/conduct-of-the-
 civil-war
END:VEVENT
BEGIN:VTIMEZONE
TZID:US/Eastern
X-LIC-LOCATION:US/Eastern
BEGIN:DAYLIGHT
DTSTART:20220313T030000
TZNAME:EDT
TZOFFSETFROM:-0500
TZOFFSETTO:-0400
END:DAYLIGHT
END:VTIMEZONE
END:VCALENDAR
