BEGIN:VCALENDAR
VERSION:2.0
PRODID:-//Plone.org//NONSGML plone.app.event//EN
X-WR-TIMEZONE:US/Eastern
BEGIN:VEVENT
SUMMARY:Climate Change Presentation with Chris Edwards
DTSTART;TZID=US/Eastern:20240416T140000
DTEND;TZID=US/Eastern:20240416T150000
DTSTAMP:20260421T103833Z
UID:e4ce80b3cfba42d09d858a297af8cac2@saas_stack_varnish:6080
CREATED:20240229T143226Z
DESCRIPTION:Retired meteorologist\, Chris Edwards\, will present on climat
 e change: simple\, serious\, and solvable.  His program will be a verifiab
 le fact-based look at the scientific state of the issues and impacts invol
 ved in climate change\, localized in many ways to Michigan.  We will explo
 re a range of ideas to address the significant challenges we face\, includ
 ing what each of us can do.
LAST-MODIFIED:20240229T143232Z
LOCATION:Morton Township Library Community Room
URL:https://www.morton.michlibrary.org/news-events/lib-cal/climate-change-
 presentation-with-chris-edwards
END:VEVENT
BEGIN:VTIMEZONE
TZID:US/Eastern
X-LIC-LOCATION:US/Eastern
BEGIN:DAYLIGHT
DTSTART:20240310T030000
TZNAME:EDT
TZOFFSETFROM:-0500
TZOFFSETTO:-0400
END:DAYLIGHT
END:VTIMEZONE
END:VCALENDAR
