BEGIN:VCALENDAR
VERSION:2.0
PRODID:-//Plone.org//NONSGML plone.app.event//EN
X-WR-TIMEZONE:US/Eastern
BEGIN:VEVENT
SUMMARY:Christmas at the Library - Family Fun Night
DTSTART;TZID=US/Eastern:20231213T173000
DTEND;TZID=US/Eastern:20231213T190000
DTSTAMP:20260419T142129Z
UID:b3c562f1919e4bd296c23b62e1fe0964@saas_stack_varnish:6080
CREATED:20231109T182414Z
DESCRIPTION:Santa is stopping at the library!  Children and their families
  are invited to share holiday wishes with Santa\, make festive crafts\, an
 d enjoy games.  Stop in any time between 5:30 and 7:00.
LAST-MODIFIED:20231109T182511Z
LOCATION:Morton Township Library Community Room
URL:https://www.morton.michlibrary.org/news-events/lib-cal/christmas-at-th
 e-library-family-fun-night-5
END:VEVENT
BEGIN:VTIMEZONE
TZID:US/Eastern
X-LIC-LOCATION:US/Eastern
BEGIN:STANDARD
DTSTART:20231105T010000
TZNAME:EST
TZOFFSETFROM:-0400
TZOFFSETTO:-0500
END:STANDARD
END:VTIMEZONE
END:VCALENDAR
