BEGIN:VCALENDAR
VERSION:2.0
PRODID:-//Plone.org//NONSGML plone.app.event//EN
X-WR-TIMEZONE:US/Eastern
BEGIN:VEVENT
SUMMARY:Christmas at the Library - Family Fun Night
DTSTART;TZID=US/Eastern:20221215T170000
DTEND;TZID=US/Eastern:20221215T183000
DTSTAMP:20260419T200107Z
UID:8700eb088b624900bc68bf21a803f8e8@saas_stack_varnish:6080
CREATED:20221114T150936Z
DESCRIPTION:All children and their families are invited to drop in any tim
 e between 5 p.m. and 6:30 p.m. to share their holiday wishes with Santa\, 
 make Christmas crafts\, play games\, and enjoy festive treats.\n\nWe hope 
 you can join us for this fun-filled evening!
LAST-MODIFIED:20221114T150944Z
LOCATION:Morton Township Library
URL:https://www.morton.michlibrary.org/news-events/lib-cal/christmas-at-th
 e-library-family-fun-night-4
END:VEVENT
BEGIN:VTIMEZONE
TZID:US/Eastern
X-LIC-LOCATION:US/Eastern
BEGIN:STANDARD
DTSTART:20221106T010000
TZNAME:EST
TZOFFSETFROM:-0400
TZOFFSETTO:-0500
END:STANDARD
END:VTIMEZONE
END:VCALENDAR
