BEGIN:VCALENDAR
VERSION:2.0
PRODID:-//Plone.org//NONSGML plone.app.event//EN
X-WR-TIMEZONE:US/Eastern
BEGIN:VEVENT
SUMMARY:Christmas at the Library - Family Fun Night
DTSTART;TZID=US/Eastern:20181205T173000
DTEND;TZID=US/Eastern:20181205T190000
DTSTAMP:20260420T103331Z
UID:d40c442df2d2417d90150313a724055f@saas_stack_varnish:6080
CREATED:20181116T153405Z
DESCRIPTION:Santa is making a stop at the library!  Children and their fam
 ilies are invited to drop in any time between 5:30 and 7:00 p.m. to share 
 their holiday wishes with Santa\, make Christmas crafts\, play games\, and
  enjoy festive treats. This event is free\, and everyone is welcome to att
 end.
LAST-MODIFIED:20181116T153411Z
LOCATION:Library Community Room
URL:https://www.morton.michlibrary.org/news-events/lib-cal/christmas-at-th
 e-library-family-fun-night-2
END:VEVENT
BEGIN:VTIMEZONE
TZID:US/Eastern
X-LIC-LOCATION:US/Eastern
BEGIN:STANDARD
DTSTART:20181104T010000
TZNAME:EST
TZOFFSETFROM:-0400
TZOFFSETTO:-0500
END:STANDARD
END:VTIMEZONE
END:VCALENDAR
