BEGIN:VCALENDAR
VERSION:2.0
PRODID:-//Plone.org//NONSGML plone.app.event//EN
X-WR-TIMEZONE:US/Eastern
BEGIN:VEVENT
SUMMARY:Chris Linn presents Cool Tricks and Funny Stuff Magic Show - Child
 ren's Summer Reading Program
DTSTART;TZID=US/Eastern:20190724T133000
DTEND;TZID=US/Eastern:20190724T143000
DTSTAMP:20260420T083139Z
UID:6036817e9c094d9080d66b36261eba78@saas_stack_varnish:6080
CREATED:20190514T185227Z
DESCRIPTION:America's Magical Funnyman will fill the library with laughter
  and wonder!  This show features creative magic\, comedy and playful audie
 nce participation.
LAST-MODIFIED:20190514T185233Z
URL:https://www.morton.michlibrary.org/news-events/lib-cal/chris-linn-pres
 ents-cool-tricks-and-funny-stuff-magic-show-childrens-summer-reading-progr
 am
END:VEVENT
BEGIN:VTIMEZONE
TZID:US/Eastern
X-LIC-LOCATION:US/Eastern
BEGIN:DAYLIGHT
DTSTART:20190310T030000
TZNAME:EDT
TZOFFSETFROM:-0500
TZOFFSETTO:-0400
END:DAYLIGHT
END:VTIMEZONE
END:VCALENDAR
