BEGIN:VCALENDAR
VERSION:2.0
PRODID:-//Plone.org//NONSGML plone.app.event//EN
X-WR-TIMEZONE:US/Eastern
BEGIN:VEVENT
SUMMARY:Chocolate Olympics (Teen Summer Reading Program)
DTSTART;TZID=US/Eastern:20240718T133000
DTEND;TZID=US/Eastern:20240718T143000
DTSTAMP:20260421T103833Z
UID:2217e2147d8f488384d54290f9ba9181@saas_stack_varnish:6080
CREATED:20240520T182010Z
DESCRIPTION:Calling all chocolate connoisseurs!  Join us for some sweet co
 mpetition as we put a chocolatey twist on traditional Olympic style games.
LAST-MODIFIED:20240520T182019Z
LOCATION:Morton Township Library Community Room
URL:https://www.morton.michlibrary.org/news-events/lib-cal/chocolate-olymp
 ics-teen-summer-reading-program
END:VEVENT
BEGIN:VTIMEZONE
TZID:US/Eastern
X-LIC-LOCATION:US/Eastern
BEGIN:DAYLIGHT
DTSTART:20240310T030000
TZNAME:EDT
TZOFFSETFROM:-0500
TZOFFSETTO:-0400
END:DAYLIGHT
END:VTIMEZONE
END:VCALENDAR
