BEGIN:VCALENDAR
VERSION:2.0
PRODID:-//Plone.org//NONSGML plone.app.event//EN
X-WR-TIMEZONE:US/Eastern
BEGIN:VEVENT
SUMMARY:Children's Valentine Crafts and Cocoa - Open House
DTSTART;TZID=US/Eastern:20240208T153000
DTEND;TZID=US/Eastern:20240208T170000
DTSTAMP:20260421T121822Z
UID:644afe144e454423b79fd84a63152ed7@saas_stack_varnish:6080
CREATED:20240119T142334Z
DESCRIPTION:Children and their families are invited to stop by the library
  Wednesday\, February 7th between 3:30 & 5:30 pm or Thursday\, February 8t
 h between 3:30 and 5:00 pm to enjoy hot cocoa and Valentine's crafts to wa
 rm your heart and share with someone you love!
LAST-MODIFIED:20240119T142340Z
LOCATION:Morton Township Library Community Room
URL:https://www.morton.michlibrary.org/news-events/lib-cal/childrens-valen
 tine-crafts-and-cocoa-open-house-3
END:VEVENT
BEGIN:VTIMEZONE
TZID:US/Eastern
X-LIC-LOCATION:US/Eastern
BEGIN:STANDARD
DTSTART:20231105T010000
TZNAME:EST
TZOFFSETFROM:-0400
TZOFFSETTO:-0500
END:STANDARD
END:VTIMEZONE
END:VCALENDAR
