BEGIN:VCALENDAR
VERSION:2.0
PRODID:-//Plone.org//NONSGML plone.app.event//EN
X-WR-TIMEZONE:US/Eastern
BEGIN:VEVENT
SUMMARY:Children's Valentine Crafts and Cocoa - Open House
DTSTART;TZID=US/Eastern:20230208T153000
DTEND;TZID=US/Eastern:20230208T173000
DTSTAMP:20260419T183607Z
UID:98697b0dd27b44abbf4b4f7a61f22ecc@saas_stack_varnish:6080
CREATED:20230130T143540Z
DESCRIPTION:Stop by the library any time between 3:30 and 5:00 on February
  7th or 3:30 and 5:30 on February 8th for an afternoon of hot cocoa and Va
 lentine's crafts to warm your heart and share with someone you love!
LAST-MODIFIED:20230130T143546Z
LOCATION:Morton Township Library Community Room
URL:https://www.morton.michlibrary.org/news-events/lib-cal/childrens-valen
 tine-crafts-and-cocoa-open-house-1
END:VEVENT
BEGIN:VTIMEZONE
TZID:US/Eastern
X-LIC-LOCATION:US/Eastern
BEGIN:STANDARD
DTSTART:20221106T010000
TZNAME:EST
TZOFFSETFROM:-0400
TZOFFSETTO:-0500
END:STANDARD
END:VTIMEZONE
END:VCALENDAR
