BEGIN:VCALENDAR
VERSION:2.0
PRODID:-//Plone.org//NONSGML plone.app.event//EN
X-WR-TIMEZONE:US/Eastern
BEGIN:VEVENT
SUMMARY:Children's Summer Reading Program
DTSTART;TZID=US/Eastern:20180711T133000
DTEND;TZID=US/Eastern:20180711T143000
DTSTAMP:20260422T121806Z
UID:c1f930ae536a4f1c8d2234237a1bcd92@saas_stack_varnish:6080
CREATED:20180514T151438Z
DESCRIPTION:Join us for these fun family-friendly events. Children in grad
 es K-5 have the opportunity to earn prizes for time spent reading\, too.
LAST-MODIFIED:20180514T151442Z
LOCATION:Community Room
URL:https://www.morton.michlibrary.org/news-events/lib-cal/childrens-summe
 r-reading-program/2018-07-11
END:VEVENT
BEGIN:VTIMEZONE
TZID:US/Eastern
X-LIC-LOCATION:US/Eastern
BEGIN:DAYLIGHT
DTSTART:20180311T030000
TZNAME:EDT
TZOFFSETFROM:-0500
TZOFFSETTO:-0400
END:DAYLIGHT
END:VTIMEZONE
END:VCALENDAR
