BEGIN:VCALENDAR
VERSION:2.0
PRODID:-//Plone.org//NONSGML plone.app.event//EN
X-WR-TIMEZONE:US/Eastern
BEGIN:VEVENT
SUMMARY:Cameron Zvara: Comedy Magician (Children's Summer Reading Program)
DTSTART;TZID=US/Eastern:20230628T133000
DTEND;TZID=US/Eastern:20230628T143000
DTSTAMP:20260419T170356Z
UID:4111f5bab60941be9234a18c4a44aa16@saas_stack_varnish:6080
CREATED:20230517T185511Z
DESCRIPTION:Cameron's performance exposes young\, creative minds to an eng
 aging and high-energy experience full of laughter and mystery.
LAST-MODIFIED:20230517T185553Z
LOCATION:Morton Township Library Community Room
URL:https://www.morton.michlibrary.org/news-events/lib-cal/cameron-zvara-c
 omedy-magician-childrens-summer-reading-program
END:VEVENT
BEGIN:VTIMEZONE
TZID:US/Eastern
X-LIC-LOCATION:US/Eastern
BEGIN:DAYLIGHT
DTSTART:20230312T030000
TZNAME:EDT
TZOFFSETFROM:-0500
TZOFFSETTO:-0400
END:DAYLIGHT
END:VTIMEZONE
END:VCALENDAR
