BEGIN:VCALENDAR
VERSION:2.0
PRODID:-//Plone.org//NONSGML plone.app.event//EN
X-WR-TIMEZONE:US/Eastern
BEGIN:VEVENT
SUMMARY:Bubble Man (Children's Summer Reading Program)
DTSTART;TZID=US/Eastern:20230719T133000
DTEND;TZID=US/Eastern:20230719T143000
DTSTAMP:20260419T170135Z
UID:f1054542ba0346d890d588bb7f4d43c4@saas_stack_varnish:6080
CREATED:20230517T190141Z
DESCRIPTION:Launch into the fascinating world of bubbles!  Bubbleologist R
 on Lloyd will amaze the audience as he crates cube bubbles\, double merry-
 go-round bubbles\, smoke bubbles\, and more!
LAST-MODIFIED:20230517T190202Z
LOCATION:Morton Township Library Community Room
URL:https://www.morton.michlibrary.org/news-events/lib-cal/bubble-man
END:VEVENT
BEGIN:VTIMEZONE
TZID:US/Eastern
X-LIC-LOCATION:US/Eastern
BEGIN:DAYLIGHT
DTSTART:20230312T030000
TZNAME:EDT
TZOFFSETFROM:-0500
TZOFFSETTO:-0400
END:DAYLIGHT
END:VTIMEZONE
END:VCALENDAR
