BEGIN:VCALENDAR
VERSION:2.0
PRODID:-//Plone.org//NONSGML plone.app.event//EN
X-WR-TIMEZONE:US/Eastern
BEGIN:VEVENT
SUMMARY:Baffling Bill Magic - Children's Summer Reading Program
DTSTART;TZID=US/Eastern:20220720T133000
DTEND;TZID=US/Eastern:20220720T143000
DTSTAMP:20260419T212259Z
UID:faa9ecdab14947c3908bf950feb1923c@saas_stack_varnish:6080
CREATED:20220516T135739Z
DESCRIPTION:Celebrate summer reading with this incredible magic show starr
 ing Baffling Bill and friends.  Witness astounding feats of magic includin
 g the Floating Lady\, Gus the Bunny\, and more.  Fun for the whole family!
LAST-MODIFIED:20220516T135828Z
LOCATION:Library Community Room
URL:https://www.morton.michlibrary.org/news-events/lib-cal/baffling-bill-m
 agic-childrens-summer-reading-program
END:VEVENT
BEGIN:VTIMEZONE
TZID:US/Eastern
X-LIC-LOCATION:US/Eastern
BEGIN:DAYLIGHT
DTSTART:20220313T030000
TZNAME:EDT
TZOFFSETFROM:-0500
TZOFFSETTO:-0400
END:DAYLIGHT
END:VTIMEZONE
END:VCALENDAR
