BEGIN:VCALENDAR
VERSION:2.0
PRODID:-//Plone.org//NONSGML plone.app.event//EN
X-WR-TIMEZONE:US/Eastern
BEGIN:VEVENT
SUMMARY:Author Mark Jager presents his book series "Mystic Michigan"
DTSTART;TZID=US/Eastern:20190711T190000
DTEND;TZID=US/Eastern:20190711T200000
DTSTAMP:20260420T085403Z
UID:7edefbce82e247199cd5a00901358afe@saas_stack_varnish:6080
CREATED:20190514T195533Z
DESCRIPTION:Jager is a Michigan Author who has spent years exploring fasci
 nating and somewhat odd places within the state of Michigan.  As a result\
 , he has written a seven volume series\, "Mystic Michigan."
LAST-MODIFIED:20190514T195537Z
LOCATION:Library Community Room
URL:https://www.morton.michlibrary.org/news-events/lib-cal/author-mark-jag
 er-presents-his-book-series-mystic-michigan
END:VEVENT
BEGIN:VTIMEZONE
TZID:US/Eastern
X-LIC-LOCATION:US/Eastern
BEGIN:DAYLIGHT
DTSTART:20190310T030000
TZNAME:EDT
TZOFFSETFROM:-0500
TZOFFSETTO:-0400
END:DAYLIGHT
END:VTIMEZONE
END:VCALENDAR
