BEGIN:VCALENDAR
VERSION:2.0
PRODID:-//Plone.org//NONSGML plone.app.event//EN
X-WR-TIMEZONE:US/Eastern
BEGIN:VEVENT
SUMMARY:Author Alan Naldratt presenting his book Michigan's C. Harold Will
 s
DTSTART;TZID=US/Eastern:20180718T190000
DTEND;TZID=US/Eastern:20180718T200000
DTSTAMP:20260422T121918Z
UID:c5825c947b514ba8885c6399685a198c@saas_stack_varnish:6080
CREATED:20180515T235348Z
DESCRIPTION:One of the unsung heroes of the auto world\, C. Harold Wills\,
  Henry Ford's "right hand man"\, designed the Model T and the Ford emblem.
   He founded his own company and produced the wills Sainte Clare.  Naldrat
 t preserves the legacy of an auto icon\, telling about the early days of t
 he Ford Motor Co.
LAST-MODIFIED:20180515T235354Z
LOCATION:Community Room
URL:https://www.morton.michlibrary.org/news-events/lib-cal/author-alan-nal
 dratt-presenting-his-book-michigans-c-harold-wills
END:VEVENT
BEGIN:VTIMEZONE
TZID:US/Eastern
X-LIC-LOCATION:US/Eastern
BEGIN:DAYLIGHT
DTSTART:20180311T030000
TZNAME:EDT
TZOFFSETFROM:-0500
TZOFFSETTO:-0400
END:DAYLIGHT
END:VTIMEZONE
END:VCALENDAR
