BEGIN:VCALENDAR
VERSION:2.0
PRODID:-//Plone.org//NONSGML plone.app.event//EN
X-WR-TIMEZONE:US/Eastern
BEGIN:VEVENT
SUMMARY:Ark Animal Encounter (Teen Summer Reading Program)
DTSTART;TZID=US/Eastern:20230720T130000
DTEND;TZID=US/Eastern:20230720T140000
DTSTAMP:20260419T170356Z
UID:380916cf40d54399a92d7bda2d4d1c07@saas_stack_varnish:6080
CREATED:20230517T194040Z
DESCRIPTION:Have you looked into the eyes of a tortoise? Do you know what 
 the softest animal on Earth feels like?  These are just a few of the anima
 l encounters you could experience with Ark Animal Encounters.
LAST-MODIFIED:20230718T190208Z
LOCATION:Morton Township Library Community Room
URL:https://www.morton.michlibrary.org/news-events/lib-cal/ark-animal-enco
 unter-teen-summer-reading-program
END:VEVENT
BEGIN:VTIMEZONE
TZID:US/Eastern
X-LIC-LOCATION:US/Eastern
BEGIN:DAYLIGHT
DTSTART:20230312T030000
TZNAME:EDT
TZOFFSETFROM:-0500
TZOFFSETTO:-0400
END:DAYLIGHT
END:VTIMEZONE
END:VCALENDAR
