BEGIN:VCALENDAR
VERSION:2.0
PRODID:-//Plone.org//NONSGML plone.app.event//EN
X-WR-TIMEZONE:US/Eastern
BEGIN:VEVENT
SUMMARY:Amazing Clark's Magic Impossible Show (Children's Summer Reading P
 rogram)
DTSTART;TZID=US/Eastern:20230726T133000
DTEND;TZID=US/Eastern:20230726T143000
DTSTAMP:20260419T154043Z
UID:600880a9d0774e3a976ab699bf05e27f@saas_stack_varnish:6080
CREATED:20230517T190628Z
DESCRIPTION:It's time to celebrate a great summer of reading and fun!  Joi
 n us on a magical mission with excitement and wonder as Amazing Clark perf
 orms an incredible display of magic.  After the show\, prize bags will be 
 available for children who completed the Summer Reading Challenge.
LAST-MODIFIED:20230517T190636Z
LOCATION:Morton Township Library Community Room
URL:https://www.morton.michlibrary.org/news-events/lib-cal/amazing-clarks-
 magic-impossible-show-childrens-summer-reading-program
END:VEVENT
BEGIN:VTIMEZONE
TZID:US/Eastern
X-LIC-LOCATION:US/Eastern
BEGIN:DAYLIGHT
DTSTART:20230312T030000
TZNAME:EDT
TZOFFSETFROM:-0500
TZOFFSETTO:-0400
END:DAYLIGHT
END:VTIMEZONE
END:VCALENDAR
