BEGIN:VCALENDAR
VERSION:2.0
PRODID:-//Plone.org//NONSGML plone.app.event//EN
X-WR-TIMEZONE:US/Eastern
BEGIN:VEVENT
SUMMARY:Amazing Clark presents "Princess and the Pirate Puppet Show" - Chi
 ldren's Summer Reading Program
DTSTART;TZID=US/Eastern:20190710T183000
DTEND;TZID=US/Eastern:20190710T193000
DTSTAMP:20260420T083114Z
UID:9d5ea0e735dc4eebba0ae0879065b24f@saas_stack_varnish:6080
CREATED:20190514T184851Z
DESCRIPTION:Join the princess and the pirate as they unravel a puppet myst
 ery with a cast of colorful characters.  This show is "out of this world" 
 and fun for all ages.
LAST-MODIFIED:20190514T185323Z
LOCATION:Library Community Room
URL:https://www.morton.michlibrary.org/news-events/lib-cal/amazing-clark-p
 resents-princess-and-the-pirate-puppet-show-childrens-summer-reading-progr
 am
END:VEVENT
BEGIN:VTIMEZONE
TZID:US/Eastern
X-LIC-LOCATION:US/Eastern
BEGIN:DAYLIGHT
DTSTART:20190310T030000
TZNAME:EDT
TZOFFSETFROM:-0500
TZOFFSETTO:-0400
END:DAYLIGHT
END:VTIMEZONE
END:VCALENDAR
