BEGIN:VCALENDAR
VERSION:2.0
PRODID:-//Plone.org//NONSGML plone.app.event//EN
X-WR-TIMEZONE:US/Eastern
BEGIN:VEVENT
SUMMARY:Amazing Clark presents "3 Pigs Large and In Charge"
DTSTART;TZID=US/Eastern:20210616T133000
DTEND;TZID=US/Eastern:20210616T143000
DTSTAMP:20260420T014918Z
UID:2957c8c858824b209e42d442a7c0f0be@saas_stack_varnish:6080
CONTACT:231-972-8315\, info@mtplibrary.org
CREATED:20210524T160632Z
DESCRIPTION:Children's Virtual Summer Reading Program
LAST-MODIFIED:20210616T130449Z
LOCATION:Online
URL:https://www.morton.michlibrary.org/news-events/lib-cal/amazing-clark-p
 resents-3-pigs-large-and-in-charge
END:VEVENT
BEGIN:VTIMEZONE
TZID:US/Eastern
X-LIC-LOCATION:US/Eastern
BEGIN:DAYLIGHT
DTSTART:20210314T030000
TZNAME:EDT
TZOFFSETFROM:-0500
TZOFFSETTO:-0400
END:DAYLIGHT
END:VTIMEZONE
END:VCALENDAR
