BEGIN:VCALENDAR
VERSION:2.0
PRODID:-//Plone.org//NONSGML plone.app.event//EN
X-WR-TIMEZONE:US/Eastern
BEGIN:VEVENT
SUMMARY:Acting Up Theatre Company presents "Space for Rent" - Children's S
 ummer Reading Program
DTSTART;TZID=US/Eastern:20190612T133000
DTEND;TZID=US/Eastern:20190612T143000
DTSTAMP:20260420T083119Z
UID:e8d87873e28e430888a49889f6671d79@saas_stack_varnish:6080
CREATED:20190514T184022Z
DESCRIPTION:Follow Major Tom and Neil's journey as they learn about saying
  yes to their imaginations in this high-energy\, fast moving\, hilarious s
 how!  This show will be held in Mecosta Elementary's Gym.  All children an
 d their families are invited and welcome to attend.
LAST-MODIFIED:20190514T184028Z
LOCATION:Mecosta Elementary
URL:https://www.morton.michlibrary.org/news-events/lib-cal/acting-up-theat
 re-company-presents-space-for-rent-childrens-summer-reading-program
END:VEVENT
BEGIN:VTIMEZONE
TZID:US/Eastern
X-LIC-LOCATION:US/Eastern
BEGIN:DAYLIGHT
DTSTART:20190310T030000
TZNAME:EDT
TZOFFSETFROM:-0500
TZOFFSETTO:-0400
END:DAYLIGHT
END:VTIMEZONE
END:VCALENDAR
