BEGIN:VCALENDAR
VERSION:2.0
PRODID:-//Plone.org//NONSGML plone.app.event//EN
X-WR-TIMEZONE:US/Eastern
BEGIN:VEVENT
SUMMARY:AARP Tax Preparation
DTSTART;TZID=US/Eastern:20200207T090000
DTEND;TZID=US/Eastern:20200207T160000
DTSTAMP:20260420T050848Z
UID:69b2fa6acf01459ea6e64bed68c3feb0@saas_stack_varnish:6080
RRULE:FREQ=WEEKLY;UNTIL=20200404T000000;BYDAY=FR
CREATED:20200130T170401Z
LAST-MODIFIED:20200130T170407Z
LOCATION:Library Community Room
URL:https://www.morton.michlibrary.org/news-events/lib-cal/aarp-tax-prepar
 ation
END:VEVENT
BEGIN:VTIMEZONE
TZID:US/Eastern
X-LIC-LOCATION:US/Eastern
BEGIN:STANDARD
DTSTART:20191103T010000
TZNAME:EST
TZOFFSETFROM:-0400
TZOFFSETTO:-0500
END:STANDARD
END:VTIMEZONE
END:VCALENDAR
