BEGIN:VCALENDAR
VERSION:2.0
PRODID:-//Plone.org//NONSGML plone.app.event//EN
X-WR-TIMEZONE:US/Eastern
BEGIN:VEVENT
SUMMARY:AARP Tax Preparation
DTSTART;TZID=US/Eastern:20200320T090000
DTEND;TZID=US/Eastern:20200320T160000
DTSTAMP:20260420T032134Z
UID:69b2fa6acf01459ea6e64bed68c3feb0@saas_stack_varnish:6080
CREATED:20200130T170401Z
LAST-MODIFIED:20200130T170407Z
LOCATION:Library Community Room
URL:https://www.morton.michlibrary.org/news-events/lib-cal/aarp-tax-prepar
 ation/2020-03-20
END:VEVENT
BEGIN:VTIMEZONE
TZID:US/Eastern
X-LIC-LOCATION:US/Eastern
BEGIN:DAYLIGHT
DTSTART:20200308T030000
TZNAME:EDT
TZOFFSETFROM:-0500
TZOFFSETTO:-0400
END:DAYLIGHT
END:VTIMEZONE
END:VCALENDAR
