BEGIN:VCALENDAR
VERSION:2.0
PRODID:-//Plone.org//NONSGML plone.app.event//EN
X-WR-TIMEZONE:US/Eastern
BEGIN:VEVENT
SUMMARY:Discovery Club
DTSTART;TZID=US/Eastern:20200325T153000
DTEND;TZID=US/Eastern:20200325T164500
DTSTAMP:20260420T031837Z
UID:6a7c2e297294414d8ed1ebc4414bc8d0@saas_stack_varnish:6080
CREATED:20190925T155808Z
DESCRIPTION:For 3rd and 4th graders.  Club members will discover amazing t
 hings through games\, art projects\, science experiments\, special visitor
 s\, scavenger hunts and much more!  This is a free program\, and healthy s
 nacks will be provided.  Come join the FUN!
LAST-MODIFIED:20190925T155814Z
LOCATION:Library Community Room
URL:https://www.morton.michlibrary.org/discovery-club/2020-03-25
END:VEVENT
BEGIN:VTIMEZONE
TZID:US/Eastern
X-LIC-LOCATION:US/Eastern
BEGIN:DAYLIGHT
DTSTART:20200308T030000
TZNAME:EDT
TZOFFSETFROM:-0500
TZOFFSETTO:-0400
END:DAYLIGHT
END:VTIMEZONE
END:VCALENDAR
